BEGIN:VCALENDAR
VERSION:2.0
PRODID:-//RMHS - ECPv6.15.17.1//NONSGML v1.0//EN
CALSCALE:GREGORIAN
METHOD:PUBLISH
X-ORIGINAL-URL:https://www.rmhumanservices.org
X-WR-CALDESC:Events for RMHS
REFRESH-INTERVAL;VALUE=DURATION:PT1H
X-Robots-Tag:noindex
X-PUBLISHED-TTL:PT1H
BEGIN:VTIMEZONE
TZID:America/Denver
BEGIN:DAYLIGHT
TZOFFSETFROM:-0700
TZOFFSETTO:-0600
TZNAME:MDT
DTSTART:20250309T090000
END:DAYLIGHT
BEGIN:STANDARD
TZOFFSETFROM:-0600
TZOFFSETTO:-0700
TZNAME:MST
DTSTART:20251102T080000
END:STANDARD
BEGIN:DAYLIGHT
TZOFFSETFROM:-0700
TZOFFSETTO:-0600
TZNAME:MDT
DTSTART:20260308T090000
END:DAYLIGHT
BEGIN:STANDARD
TZOFFSETFROM:-0600
TZOFFSETTO:-0700
TZNAME:MST
DTSTART:20261101T080000
END:STANDARD
BEGIN:DAYLIGHT
TZOFFSETFROM:-0700
TZOFFSETTO:-0600
TZNAME:MDT
DTSTART:20270314T090000
END:DAYLIGHT
BEGIN:STANDARD
TZOFFSETFROM:-0600
TZOFFSETTO:-0700
TZNAME:MST
DTSTART:20271107T080000
END:STANDARD
END:VTIMEZONE
BEGIN:VEVENT
DTSTART;TZID=America/Denver:20260423T140000
DTEND;TZID=America/Denver:20260423T150000
DTSTAMP:20260424T111830
CREATED:20260228T000005Z
LAST-MODIFIED:20260312T045753Z
UID:7315-1776952800-1776956400@www.rmhumanservices.org
SUMMARY:RMHS Denver Early Steps: Picky Eaters Class
DESCRIPTION:Learn the difference between typical picky eating and more complex feeding challenges. You will also learn what is developmentally expected and walk away with strategies to support your child.  \nTo learn more about Denver Early Steps class offerings\, visit this page.
URL:https://www.rmhumanservices.org/event/rmhs-denver-early-steps-picky-eaters-class-2/
LOCATION:Virtual
CATEGORIES:RMHS Events
ATTACH;FMTTYPE=image/jpeg:https://www.rmhumanservices.org/wp-content/uploads/2026/02/TEMPLATE-DENVER-EARLY-STEPS-CLASS.jpg
END:VEVENT
BEGIN:VEVENT
DTSTART;TZID=America/Denver:20260408T100000
DTEND;TZID=America/Denver:20260408T113000
DTSTAMP:20260424T111830
CREATED:20260403T175524Z
LAST-MODIFIED:20260403T175531Z
UID:7580-1775642400-1775647800@www.rmhumanservices.org
SUMMARY:Denver START Webinar: Medical Drivers of Crisis in Autism & I/DD
DESCRIPTION:Join a free webinar on how medical factors—like sleep disorders—can drive behavioral crises in individuals with autism and developmental disabilities\, and how coordinated crisis models improve outcomes. Presented in partnership with JFK Partners and designed for medical providers.
URL:https://www.rmhumanservices.org/event/denver-start-webinar-medical-drivers-of-crisis-in-autism-i-dd/
LOCATION:Virtual
CATEGORIES:RMHS Events
ATTACH;FMTTYPE=image/jpeg:https://www.rmhumanservices.org/wp-content/uploads/2026/04/TEMPLATE-LOGO-1.jpg
END:VEVENT
BEGIN:VEVENT
DTSTART;TZID=America/Denver:20260407T140000
DTEND;TZID=America/Denver:20260407T160000
DTSTAMP:20260424T111830
CREATED:20260227T233038Z
LAST-MODIFIED:20260312T045525Z
UID:7306-1775570400-1775577600@www.rmhumanservices.org
SUMMARY:RMHS Denver Early Steps: Intro Signs in Daily Routines
DESCRIPTION:Learn how to cue your child to use practical\, everyday signs\, understand the benefits of signing\, and clear up common misconceptions about using signs with your child.  \nTo learn more about Denver Early Steps class offerings\, visit this page.
URL:https://www.rmhumanservices.org/event/rmhs-denver-early-steps-intro-signs-in-daily-routines/
LOCATION:Virtual
CATEGORIES:RMHS Events
ATTACH;FMTTYPE=image/jpeg:https://www.rmhumanservices.org/wp-content/uploads/2026/02/TEMPLATE-DENVER-EARLY-STEPS-CLASS.jpg
END:VEVENT
BEGIN:VEVENT
DTSTART;TZID=America/Denver:20260402T150000
DTEND;TZID=America/Denver:20260402T173000
DTSTAMP:20260424T111830
CREATED:20260228T002415Z
LAST-MODIFIED:20260312T045153Z
UID:7331-1775142000-1775151000@www.rmhumanservices.org
SUMMARY:Arc of Adams Intellectual & Developmental Disability Resource Fair
DESCRIPTION:The Arc of Adams County is hosting an Intellectual and Developmental Disability Resource Fair\, providing community members with access to information about disability services and supports. Attendees can also explore disability services\, healthcare options\, and employment resources.
URL:https://www.rmhumanservices.org/event/arc-of-adams-intellectual-developmental-disability-resource-fair/
LOCATION:Adams 12 Five Star Schools\, 1500 E 128th Ave\, Thornton\, Colorado\, 80241
CATEGORIES:Community Events
ATTACH;FMTTYPE=image/jpeg:https://www.rmhumanservices.org/wp-content/uploads/2026/02/TEMPLATE-LOGO.jpg
END:VEVENT
BEGIN:VEVENT
DTSTART;TZID=America/Denver:20260326T100000
DTEND;TZID=America/Denver:20260326T110000
DTSTAMP:20260424T111830
CREATED:20260228T000924Z
LAST-MODIFIED:20260312T045028Z
UID:7325-1774519200-1774522800@www.rmhumanservices.org
SUMMARY:RMHS Denver Early Steps: Starting Solids Class
DESCRIPTION:Learn how to recognize signs your baby is ready for solid foods and how to introduce them safely and confidently. This class covers feeding safety\, allergen introduction\, and practical strategies to help the transition to solids go smoothly. Whether your baby has yet to start eating solids or is having difficulty transitioning to solids\, learn more about feeding your baby by attending this class. \nTo learn more about Denver Early Steps class offerings\, visit this page.
URL:https://www.rmhumanservices.org/event/rmhs-denver-early-steps-starting-solids-class/
LOCATION:Virtual
CATEGORIES:RMHS Events
ATTACH;FMTTYPE=image/jpeg:https://www.rmhumanservices.org/wp-content/uploads/2026/02/TEMPLATE-DENVER-EARLY-STEPS-CLASS.jpg
END:VEVENT
BEGIN:VEVENT
DTSTART;TZID=America/Denver:20260325T103000
DTEND;TZID=America/Denver:20260325T120000
DTSTAMP:20260424T111830
CREATED:20260228T003940Z
LAST-MODIFIED:20260312T213539Z
UID:7339-1774434600-1774440000@www.rmhumanservices.org
SUMMARY:Denver START Clinical Education Training: Gastrointestinal (Gastro) Issues and I/DD
DESCRIPTION:This session reviews common gastrointestinal issues in individuals with intellectual and developmental disabilities and how they often present as behavioral or psychiatric concerns. Participants will learn to recognize red flags\, advocate for appropriate medical evaluation\, and integrate health considerations into behavior support planning. \n\nWho Should Attend This Session: \nMedical providers\, nurses\, behavioral health clinicians\, direct support professionals\, case managers\, and host home providers.\n\n\nTo learn more about the Denver START program\, visit this page.
URL:https://www.rmhumanservices.org/event/denver-start-clinical-education-training-gastrointestinal-gastro-issues-and-idd/
LOCATION:Rocky Mountain Human Services Office\, Training Room 1\, 9900 E. Iliff Ave\, Denver\, CO\, 80231
CATEGORIES:RMHS Events
ATTACH;FMTTYPE=image/jpeg:https://www.rmhumanservices.org/wp-content/uploads/2026/02/TEMPLATE-DENVER-START-CLINICAL-EDUCATION-TRAINING.jpg
END:VEVENT
END:VCALENDAR