Workbook

Sheet Invoice
A1: July 2024-June 2025 State SLS & OBRA Invoice- Rocky Mountain Human Services
A2: Customer Legal Name: | C2: Customer DOB: | U2: * RMHS will reimburse at the most current rates. Rows can be unhidden/hidden to edit number of lines on the invoice.
A3: Company Name: | C3: Program:
A4: Service Provider Name: | C4: Service Month/Year:
A6: Approved Service Provided | B6: Detailed Description of Service Provided | C6: Date of Service | D6: Time In HH:MM AM/PM | E6: Time Out HH:MM AM/PM | F6: Waiver | G6: SIS | H6: Combined | I6: SISdependent | J6: Rate1 | K6: Formula2 | L6: Formula3 | M6: Formula4 | N6: Overlap | O6: Formula 1 | P6: Formula 2 | Q6: Hours | R6: Minutes | S6: Total Minutes | T6: Units | U6: Rate | V6: Total Amount
F7: =$D$3 -> 0 | G7: =#REF! -> #REF! | H7: =IF(Table8[[#This Row],[Waiver]]="State SLS","8"&Table8[[#This Row],[Approved Service Provided]],IF(Table8[[#This Row],[Waiver]]="OBRA","9"&Table8[[#This Row],[Approved Service Provided]],Table8[[#This Row],[SIS]]&Table8[[#This Row],[Approved Service Provided]])) -> #REF! | I7: =IF(Table8[[#This Row],[Waiver]]="State SLS",8,IF(Table8[[#This Row],[Waiver]]="OBRA",9,IFERROR(VLOOKUP(Table8[[#This Row],[Combined]],'Optimax Rates'!$B$2:$G$148,4,FALSE),0))) -> 0 | J7: =IF(Table8[[#This Row],[SISdependent]]=0,VLOOKUP("0"&Table8[[#This Row],[Approved Service Provided]],'Optimax Rates'!$B$2:$H$168,6,FALSE),VLOOKUP(Table8[[#This Row],[Combined]],'Optimax Rates'!$B$1:$G$168,6,FALSE)) -> #N/A | K7: =VLOOKUP(Table8[[#This Row],[SISdependent]]&Table8[[#This Row],[Approved Service Provided]],'Optimax Rates'!$B$2:$H$148,3,FALSE) -> #N/A | L7: =TEXT(Table8[[#This Row],[Date of Service]],"m/dd/yyyy ")&" "&TEXT(Table8[[#This Row],[Time In HH:MM AM/PM]],"hh:mm") -> 1/00/1900 00:00 | M7: =TEXT(Table8[[#This Row],[Date of Service]],"m/dd/yyyy ")&" "&TEXT(Table8[[#This Row],[Time Out HH:MM AM/PM]],"hh:mm") -> 1/00/1900 00:00 | N7: {=SUMPRODUCT((Table8[[#This Row],[Formula3]]<$M$7:$M$70)*(Table8[[#This Row],[Formula4]]>=$L$7:$L$70))>1} -> FALSE | O7: =Table8[[#This Row],[Time Out HH:MM AM/PM]]-Table8[[#This Row],[Time In HH:MM AM/PM]] -> 0 | P7: =TEXT(Table8[[#This Row],[Formula 1]],"HH:MM") -> 00:00 | Q7: =LEFT(Table8[[#This Row],[Formula 2]],SEARCH(":",Table8[[#This Row],[Formula 2]])-1) -> 00 | R7: =RIGHT(Table8[[#This Row],[Formula 2]],SEARCH(":",Table8[[#This Row],[Formula 2]])-1) -> 00 | S7: =Table8[[#This Row],[Hours]]*60+Table8[[#This Row],[Minutes]] -> 0 | T7: =IF(ISBLANK(Table8[[#This Row],[Approved Service Provided]]),"",IF(OR(Table8[[#This Row],[Formula2]]="DAYS",Table8[[#This Row],[Formula2]]="TRIP"),1,ROUNDDOWN((Table8[[#This Row],[Total Minutes]]+7)/15,0))) | U7: =IF(ISBLANK(Table8[[#This Row],[Approved Service Provided]]),"",Table8[[#This Row],[Rate1]]) | V7: =IF(Table8[[#This Row],[Rate]]="","",Table8[[#This Row],[Units]]*Table8[[#This Row],[Rate]])
F8: =$D$3 -> 0 | G8: =#REF! -> #REF! | H8: =IF(Table8[[#This Row],[Waiver]]="State SLS","8"&Table8[[#This Row],[Approved Service Provided]],IF(Table8[[#This Row],[Waiver]]="OBRA","9"&Table8[[#This Row],[Approved Service Provided]],Table8[[#This Row],[SIS]]&Table8[[#This Row],[Approved Service Provided]])) -> #REF! | I8: =IF(Table8[[#This Row],[Waiver]]="State SLS",8,IF(Table8[[#This Row],[Waiver]]="OBRA",9,IFERROR(VLOOKUP(Table8[[#This Row],[Combined]],'Optimax Rates'!$B$2:$G$148,4,FALSE),0))) -> 0 | J8: =IF(Table8[[#This Row],[SISdependent]]=0,VLOOKUP("0"&Table8[[#This Row],[Approved Service Provided]],'Optimax Rates'!$B$2:$H$168,6,FALSE),VLOOKUP(Table8[[#This Row],[Combined]],'Optimax Rates'!$B$1:$G$168,6,FALSE)) -> #N/A | K8: =VLOOKUP(Table8[[#This Row],[SISdependent]]&Table8[[#This Row],[Approved Service Provided]],'Optimax Rates'!$B$2:$H$148,3,FALSE) -> #N/A | L8: =TEXT(Table8[[#This Row],[Date of Service]],"m/dd/yyyy ")&" "&TEXT(Table8[[#This Row],[Time In HH:MM AM/PM]],"hh:mm") -> 1/00/1900 00:00 | M8: =TEXT(Table8[[#This Row],[Date of Service]],"m/dd/yyyy ")&" "&TEXT(Table8[[#This Row],[Time Out HH:MM AM/PM]],"hh:mm") -> 1/00/1900 00:00 | N8: {=SUMPRODUCT((Table8[[#This Row],[Formula3]]<$M$7:$M$70)*(Table8[[#This Row],[Formula4]]>=$L$7:$L$70))>1} -> FALSE | O8: =Table8[[#This Row],[Time Out HH:MM AM/PM]]-Table8[[#This Row],[Time In HH:MM AM/PM]] -> 0 | P8: =TEXT(Table8[[#This Row],[Formula 1]],"HH:MM") -> 00:00 | Q8: =LEFT(Table8[[#This Row],[Formula 2]],SEARCH(":",Table8[[#This Row],[Formula 2]])-1) -> 00 | R8: =RIGHT(Table8[[#This Row],[Formula 2]],SEARCH(":",Table8[[#This Row],[Formula 2]])-1) -> 00 | S8: =Table8[[#This Row],[Hours]]*60+Table8[[#This Row],[Minutes]] -> 0 | T8: =IF(ISBLANK(Table8[[#This Row],[Approved Service Provided]]),"",IF(OR(Table8[[#This Row],[Formula2]]="DAYS",Table8[[#This Row],[Formula2]]="TRIP"),1,ROUNDDOWN((Table8[[#This Row],[Total Minutes]]+7)/15,0))) | U8: =IF(ISBLANK(Table8[[#This Row],[Approved Service Provided]]),"",Table8[[#This Row],[Rate1]]) | V8: =IF(Table8[[#This Row],[Rate]]="","",Table8[[#This Row],[Units]]*Table8[[#This Row],[Rate]])
F9: =$D$3 -> 0 | G9: =#REF! -> #REF! | H9: =IF(Table8[[#This Row],[Waiver]]="State SLS","8"&Table8[[#This Row],[Approved Service Provided]],IF(Table8[[#This Row],[Waiver]]="OBRA","9"&Table8[[#This Row],[Approved Service Provided]],Table8[[#This Row],[SIS]]&Table8[[#This Row],[Approved Service Provided]])) -> #REF! | I9: =IF(Table8[[#This Row],[Waiver]]="State SLS",8,IF(Table8[[#This Row],[Waiver]]="OBRA",9,IFERROR(VLOOKUP(Table8[[#This Row],[Combined]],'Optimax Rates'!$B$2:$G$148,4,FALSE),0))) -> 0 | J9: =IF(Table8[[#This Row],[SISdependent]]=0,VLOOKUP("0"&Table8[[#This Row],[Approved Service Provided]],'Optimax Rates'!$B$2:$H$168,6,FALSE),VLOOKUP(Table8[[#This Row],[Combined]],'Optimax Rates'!$B$1:$G$168,6,FALSE)) -> #N/A | K9: =VLOOKUP(Table8[[#This Row],[SISdependent]]&Table8[[#This Row],[Approved Service Provided]],'Optimax Rates'!$B$2:$H$148,3,FALSE) -> #N/A | L9: =TEXT(Table8[[#This Row],[Date of Service]],"m/dd/yyyy ")&" "&TEXT(Table8[[#This Row],[Time In HH:MM AM/PM]],"hh:mm") -> 1/00/1900 00:00 | M9: =TEXT(Table8[[#This Row],[Date of Service]],"m/dd/yyyy ")&" "&TEXT(Table8[[#This Row],[Time Out HH:MM AM/PM]],"hh:mm") -> 1/00/1900 00:00 | N9: {=SUMPRODUCT((Table8[[#This Row],[Formula3]]<$M$7:$M$70)*(Table8[[#This Row],[Formula4]]>=$L$7:$L$70))>1} -> FALSE | O9: =Table8[[#This Row],[Time Out HH:MM AM/PM]]-Table8[[#This Row],[Time In HH:MM AM/PM]] -> 0 | P9: =TEXT(Table8[[#This Row],[Formula 1]],"HH:MM") -> 00:00 | Q9: =LEFT(Table8[[#This Row],[Formula 2]],SEARCH(":",Table8[[#This Row],[Formula 2]])-1) -> 00 | R9: =RIGHT(Table8[[#This Row],[Formula 2]],SEARCH(":",Table8[[#This Row],[Formula 2]])-1) -> 00 | S9: =Table8[[#This Row],[Hours]]*60+Table8[[#This Row],[Minutes]] -> 0 | T9: =IF(ISBLANK(Table8[[#This Row],[Approved Service Provided]]),"",IF(OR(Table8[[#This Row],[Formula2]]="DAYS",Table8[[#This Row],[Formula2]]="TRIP"),1,ROUNDDOWN((Table8[[#This Row],[Total Minutes]]+7)/15,0))) | U9: =IF(ISBLANK(Table8[[#This Row],[Approved Service Provided]]),"",Table8[[#This Row],[Rate1]]) | V9: =IF(Table8[[#This Row],[Rate]]="","",Table8[[#This Row],[Units]]*Table8[[#This Row],[Rate]])
F10: =$D$3 -> 0 | G10: =#REF! -> #REF! | H10: =IF(Table8[[#This Row],[Waiver]]="State SLS","8"&Table8[[#This Row],[Approved Service Provided]],IF(Table8[[#This Row],[Waiver]]="OBRA","9"&Table8[[#This Row],[Approved Service Provided]],Table8[[#This Row],[SIS]]&Table8[[#This Row],[Approved Service Provided]])) -> #REF! | I10: =IF(Table8[[#This Row],[Waiver]]="State SLS",8,IF(Table8[[#This Row],[Waiver]]="OBRA",9,IFERROR(VLOOKUP(Table8[[#This Row],[Combined]],'Optimax Rates'!$B$2:$G$148,4,FALSE),0))) -> 0 | J10: =IF(Table8[[#This Row],[SISdependent]]=0,VLOOKUP("0"&Table8[[#This Row],[Approved Service Provided]],'Optimax Rates'!$B$2:$H$168,6,FALSE),VLOOKUP(Table8[[#This Row],[Combined]],'Optimax Rates'!$B$1:$G$168,6,FALSE)) -> #N/A | K10: =VLOOKUP(Table8[[#This Row],[SISdependent]]&Table8[[#This Row],[Approved Service Provided]],'Optimax Rates'!$B$2:$H$148,3,FALSE) -> #N/A | L10: =TEXT(Table8[[#This Row],[Date of Service]],"m/dd/yyyy ")&" "&TEXT(Table8[[#This Row],[Time In HH:MM AM/PM]],"hh:mm") -> 1/00/1900 00:00 | M10: =TEXT(Table8[[#This Row],[Date of Service]],"m/dd/yyyy ")&" "&TEXT(Table8[[#This Row],[Time Out HH:MM AM/PM]],"hh:mm") -> 1/00/1900 00:00 | N10: {=SUMPRODUCT((Table8[[#This Row],[Formula3]]<$M$7:$M$70)*(Table8[[#This Row],[Formula4]]>=$L$7:$L$70))>1} -> FALSE | O10: =Table8[[#This Row],[Time Out HH:MM AM/PM]]-Table8[[#This Row],[Time In HH:MM AM/PM]] -> 0 | P10: =TEXT(Table8[[#This Row],[Formula 1]],"HH:MM") -> 00:00 | Q10: =LEFT(Table8[[#This Row],[Formula 2]],SEARCH(":",Table8[[#This Row],[Formula 2]])-1) -> 00 | R10: =RIGHT(Table8[[#This Row],[Formula 2]],SEARCH(":",Table8[[#This Row],[Formula 2]])-1) -> 00 | S10: =Table8[[#This Row],[Hours]]*60+Table8[[#This Row],[Minutes]] -> 0 | T10: =IF(ISBLANK(Table8[[#This Row],[Approved Service Provided]]),"",IF(OR(Table8[[#This Row],[Formula2]]="DAYS",Table8[[#This Row],[Formula2]]="TRIP"),1,ROUNDDOWN((Table8[[#This Row],[Total Minutes]]+7)/15,0))) | U10: =IF(ISBLANK(Table8[[#This Row],[Approved Service Provided]]),"",Table8[[#This Row],[Rate1]]) | V10: =IF(Table8[[#This Row],[Rate]]="","",Table8[[#This Row],[Units]]*Table8[[#This Row],[Rate]])
F11: =$D$3 -> 0 | G11: =#REF! -> #REF! | H11: =IF(Table8[[#This Row],[Waiver]]="State SLS","8"&Table8[[#This Row],[Approved Service Provided]],IF(Table8[[#This Row],[Waiver]]="OBRA","9"&Table8[[#This Row],[Approved Service Provided]],Table8[[#This Row],[SIS]]&Table8[[#This Row],[Approved Service Provided]])) -> #REF! | I11: =IF(Table8[[#This Row],[Waiver]]="State SLS",8,IF(Table8[[#This Row],[Waiver]]="OBRA",9,IFERROR(VLOOKUP(Table8[[#This Row],[Combined]],'Optimax Rates'!$B$2:$G$148,4,FALSE),0))) -> 0 | J11: =IF(Table8[[#This Row],[SISdependent]]=0,VLOOKUP("0"&Table8[[#This Row],[Approved Service Provided]],'Optimax Rates'!$B$2:$H$168,6,FALSE),VLOOKUP(Table8[[#This Row],[Combined]],'Optimax Rates'!$B$1:$G$168,6,FALSE)) -> #N/A | K11: =VLOOKUP(Table8[[#This Row],[SISdependent]]&Table8[[#This Row],[Approved Service Provided]],'Optimax Rates'!$B$2:$H$148,3,FALSE) -> #N/A | L11: =TEXT(Table8[[#This Row],[Date of Service]],"m/dd/yyyy ")&" "&TEXT(Table8[[#This Row],[Time In HH:MM AM/PM]],"hh:mm") -> 1/00/1900 00:00 | M11: =TEXT(Table8[[#This Row],[Date of Service]],"m/dd/yyyy ")&" "&TEXT(Table8[[#This Row],[Time Out HH:MM AM/PM]],"hh:mm") -> 1/00/1900 00:00 | N11: {=SUMPRODUCT((Table8[[#This Row],[Formula3]]<$M$7:$M$70)*(Table8[[#This Row],[Formula4]]>=$L$7:$L$70))>1} -> FALSE | O11: =Table8[[#This Row],[Time Out HH:MM AM/PM]]-Table8[[#This Row],[Time In HH:MM AM/PM]] -> 0 | P11: =TEXT(Table8[[#This Row],[Formula 1]],"HH:MM") -> 00:00 | Q11: =LEFT(Table8[[#This Row],[Formula 2]],SEARCH(":",Table8[[#This Row],[Formula 2]])-1) -> 00 | R11: =RIGHT(Table8[[#This Row],[Formula 2]],SEARCH(":",Table8[[#This Row],[Formula 2]])-1) -> 00 | S11: =Table8[[#This Row],[Hours]]*60+Table8[[#This Row],[Minutes]] -> 0 | T11: =IF(ISBLANK(Table8[[#This Row],[Approved Service Provided]]),"",IF(OR(Table8[[#This Row],[Formula2]]="DAYS",Table8[[#This Row],[Formula2]]="TRIP"),1,ROUNDDOWN((Table8[[#This Row],[Total Minutes]]+7)/15,0))) | U11: =IF(ISBLANK(Table8[[#This Row],[Approved Service Provided]]),"",Table8[[#This Row],[Rate1]]) | V11: =IF(Table8[[#This Row],[Rate]]="","",Table8[[#This Row],[Units]]*Table8[[#This Row],[Rate]])
F12: =$D$3 -> 0 | G12: =#REF! -> #REF! | H12: =IF(Table8[[#This Row],[Waiver]]="State SLS","8"&Table8[[#This Row],[Approved Service Provided]],IF(Table8[[#This Row],[Waiver]]="OBRA","9"&Table8[[#This Row],[Approved Service Provided]],Table8[[#This Row],[SIS]]&Table8[[#This Row],[Approved Service Provided]])) -> #REF! | I12: =IF(Table8[[#This Row],[Waiver]]="State SLS",8,IF(Table8[[#This Row],[Waiver]]="OBRA",9,IFERROR(VLOOKUP(Table8[[#This Row],[Combined]],'Optimax Rates'!$B$2:$G$148,4,FALSE),0))) -> 0 | J12: =IF(Table8[[#This Row],[SISdependent]]=0,VLOOKUP("0"&Table8[[#This Row],[Approved Service Provided]],'Optimax Rates'!$B$2:$H$168,6,FALSE),VLOOKUP(Table8[[#This Row],[Combined]],'Optimax Rates'!$B$1:$G$168,6,FALSE)) -> #N/A | K12: =VLOOKUP(Table8[[#This Row],[SISdependent]]&Table8[[#This Row],[Approved Service Provided]],'Optimax Rates'!$B$2:$H$148,3,FALSE) -> #N/A | L12: =TEXT(Table8[[#This Row],[Date of Service]],"m/dd/yyyy ")&" "&TEXT(Table8[[#This Row],[Time In HH:MM AM/PM]],"hh:mm") -> 1/00/1900 00:00 | M12: =TEXT(Table8[[#This Row],[Date of Service]],"m/dd/yyyy ")&" "&TEXT(Table8[[#This Row],[Time Out HH:MM AM/PM]],"hh:mm") -> 1/00/1900 00:00 | N12: {=SUMPRODUCT((Table8[[#This Row],[Formula3]]<$M$7:$M$70)*(Table8[[#This Row],[Formula4]]>=$L$7:$L$70))>1} -> FALSE | O12: =Table8[[#This Row],[Time Out HH:MM AM/PM]]-Table8[[#This Row],[Time In HH:MM AM/PM]] -> 0 | P12: =TEXT(Table8[[#This Row],[Formula 1]],"HH:MM") -> 00:00 | Q12: =LEFT(Table8[[#This Row],[Formula 2]],SEARCH(":",Table8[[#This Row],[Formula 2]])-1) -> 00 | R12: =RIGHT(Table8[[#This Row],[Formula 2]],SEARCH(":",Table8[[#This Row],[Formula 2]])-1) -> 00 | S12: =Table8[[#This Row],[Hours]]*60+Table8[[#This Row],[Minutes]] -> 0 | T12: =IF(ISBLANK(Table8[[#This Row],[Approved Service Provided]]),"",IF(OR(Table8[[#This Row],[Formula2]]="DAYS",Table8[[#This Row],[Formula2]]="TRIP"),1,ROUNDDOWN((Table8[[#This Row],[Total Minutes]]+7)/15,0))) | U12: =IF(ISBLANK(Table8[[#This Row],[Approved Service Provided]]),"",Table8[[#This Row],[Rate1]]) | V12: =IF(Table8[[#This Row],[Rate]]="","",Table8[[#This Row],[Units]]*Table8[[#This Row],[Rate]])
F13: =$D$3 -> 0 | G13: =#REF! -> #REF! | H13: =IF(Table8[[#This Row],[Waiver]]="State SLS","8"&Table8[[#This Row],[Approved Service Provided]],IF(Table8[[#This Row],[Waiver]]="OBRA","9"&Table8[[#This Row],[Approved Service Provided]],Table8[[#This Row],[SIS]]&Table8[[#This Row],[Approved Service Provided]])) -> #REF! | I13: =IF(Table8[[#This Row],[Waiver]]="State SLS",8,IF(Table8[[#This Row],[Waiver]]="OBRA",9,IFERROR(VLOOKUP(Table8[[#This Row],[Combined]],'Optimax Rates'!$B$2:$G$148,4,FALSE),0))) -> 0 | J13: =IF(Table8[[#This Row],[SISdependent]]=0,VLOOKUP("0"&Table8[[#This Row],[Approved Service Provided]],'Optimax Rates'!$B$2:$H$168,6,FALSE),VLOOKUP(Table8[[#This Row],[Combined]],'Optimax Rates'!$B$1:$G$168,6,FALSE)) -> #N/A | K13: =VLOOKUP(Table8[[#This Row],[SISdependent]]&Table8[[#This Row],[Approved Service Provided]],'Optimax Rates'!$B$2:$H$148,3,FALSE) -> #N/A | L13: =TEXT(Table8[[#This Row],[Date of Service]],"m/dd/yyyy ")&" "&TEXT(Table8[[#This Row],[Time In HH:MM AM/PM]],"hh:mm") -> 1/00/1900 00:00 | M13: =TEXT(Table8[[#This Row],[Date of Service]],"m/dd/yyyy ")&" "&TEXT(Table8[[#This Row],[Time Out HH:MM AM/PM]],"hh:mm") -> 1/00/1900 00:00 | N13: {=SUMPRODUCT((Table8[[#This Row],[Formula3]]<$M$7:$M$70)*(Table8[[#This Row],[Formula4]]>=$L$7:$L$70))>1} -> FALSE | O13: =Table8[[#This Row],[Time Out HH:MM AM/PM]]-Table8[[#This Row],[Time In HH:MM AM/PM]] -> 0 | P13: =TEXT(Table8[[#This Row],[Formula 1]],"HH:MM") -> 00:00 | Q13: =LEFT(Table8[[#This Row],[Formula 2]],SEARCH(":",Table8[[#This Row],[Formula 2]])-1) -> 00 | R13: =RIGHT(Table8[[#This Row],[Formula 2]],SEARCH(":",Table8[[#This Row],[Formula 2]])-1) -> 00 | S13: =Table8[[#This Row],[Hours]]*60+Table8[[#This Row],[Minutes]] -> 0 | T13: =IF(ISBLANK(Table8[[#This Row],[Approved Service Provided]]),"",IF(OR(Table8[[#This Row],[Formula2]]="DAYS",Table8[[#This Row],[Formula2]]="TRIP"),1,ROUNDDOWN((Table8[[#This Row],[Total Minutes]]+7)/15,0))) | U13: =IF(ISBLANK(Table8[[#This Row],[Approved Service Provided]]),"",Table8[[#This Row],[Rate1]]) | V13: =IF(Table8[[#This Row],[Rate]]="","",Table8[[#This Row],[Units]]*Table8[[#This Row],[Rate]])
F14: =$D$3 -> 0 | G14: =#REF! -> #REF! | H14: =IF(Table8[[#This Row],[Waiver]]="State SLS","8"&Table8[[#This Row],[Approved Service Provided]],IF(Table8[[#This Row],[Waiver]]="OBRA","9"&Table8[[#This Row],[Approved Service Provided]],Table8[[#This Row],[SIS]]&Table8[[#This Row],[Approved Service Provided]])) -> #REF! | I14: =IF(Table8[[#This Row],[Waiver]]="State SLS",8,IF(Table8[[#This Row],[Waiver]]="OBRA",9,IFERROR(VLOOKUP(Table8[[#This Row],[Combined]],'Optimax Rates'!$B$2:$G$148,4,FALSE),0))) -> 0 | J14: =IF(Table8[[#This Row],[SISdependent]]=0,VLOOKUP("0"&Table8[[#This Row],[Approved Service Provided]],'Optimax Rates'!$B$2:$H$168,6,FALSE),VLOOKUP(Table8[[#This Row],[Combined]],'Optimax Rates'!$B$1:$G$168,6,FALSE)) -> #N/A | K14: =VLOOKUP(Table8[[#This Row],[SISdependent]]&Table8[[#This Row],[Approved Service Provided]],'Optimax Rates'!$B$2:$H$148,3,FALSE) -> #N/A | L14: =TEXT(Table8[[#This Row],[Date of Service]],"m/dd/yyyy ")&" "&TEXT(Table8[[#This Row],[Time In HH:MM AM/PM]],"hh:mm") -> 1/00/1900 00:00 | M14: =TEXT(Table8[[#This Row],[Date of Service]],"m/dd/yyyy ")&" "&TEXT(Table8[[#This Row],[Time Out HH:MM AM/PM]],"hh:mm") -> 1/00/1900 00:00 | N14: {=SUMPRODUCT((Table8[[#This Row],[Formula3]]<$M$7:$M$70)*(Table8[[#This Row],[Formula4]]>=$L$7:$L$70))>1} -> FALSE | O14: =Table8[[#This Row],[Time Out HH:MM AM/PM]]-Table8[[#This Row],[Time In HH:MM AM/PM]] -> 0 | P14: =TEXT(Table8[[#This Row],[Formula 1]],"HH:MM") -> 00:00 | Q14: =LEFT(Table8[[#This Row],[Formula 2]],SEARCH(":",Table8[[#This Row],[Formula 2]])-1) -> 00 | R14: =RIGHT(Table8[[#This Row],[Formula 2]],SEARCH(":",Table8[[#This Row],[Formula 2]])-1) -> 00 | S14: =Table8[[#This Row],[Hours]]*60+Table8[[#This Row],[Minutes]] -> 0 | T14: =IF(ISBLANK(Table8[[#This Row],[Approved Service Provided]]),"",IF(OR(Table8[[#This Row],[Formula2]]="DAYS",Table8[[#This Row],[Formula2]]="TRIP"),1,ROUNDDOWN((Table8[[#This Row],[Total Minutes]]+7)/15,0))) | U14: =IF(ISBLANK(Table8[[#This Row],[Approved Service Provided]]),"",Table8[[#This Row],[Rate1]]) | V14: =IF(Table8[[#This Row],[Rate]]="","",Table8[[#This Row],[Units]]*Table8[[#This Row],[Rate]])
F15: =$D$3 -> 0 | G15: =#REF! -> #REF! | H15: =IF(Table8[[#This Row],[Waiver]]="State SLS","8"&Table8[[#This Row],[Approved Service Provided]],IF(Table8[[#This Row],[Waiver]]="OBRA","9"&Table8[[#This Row],[Approved Service Provided]],Table8[[#This Row],[SIS]]&Table8[[#This Row],[Approved Service Provided]])) -> #REF! | I15: =IF(Table8[[#This Row],[Waiver]]="State SLS",8,IF(Table8[[#This Row],[Waiver]]="OBRA",9,IFERROR(VLOOKUP(Table8[[#This Row],[Combined]],'Optimax Rates'!$B$2:$G$148,4,FALSE),0))) -> 0 | J15: =IF(Table8[[#This Row],[SISdependent]]=0,VLOOKUP("0"&Table8[[#This Row],[Approved Service Provided]],'Optimax Rates'!$B$2:$H$168,6,FALSE),VLOOKUP(Table8[[#This Row],[Combined]],'Optimax Rates'!$B$1:$G$168,6,FALSE)) -> #N/A | K15: =VLOOKUP(Table8[[#This Row],[SISdependent]]&Table8[[#This Row],[Approved Service Provided]],'Optimax Rates'!$B$2:$H$148,3,FALSE) -> #N/A | L15: =TEXT(Table8[[#This Row],[Date of Service]],"m/dd/yyyy ")&" "&TEXT(Table8[[#This Row],[Time In HH:MM AM/PM]],"hh:mm") -> 1/00/1900 00:00 | M15: =TEXT(Table8[[#This Row],[Date of Service]],"m/dd/yyyy ")&" "&TEXT(Table8[[#This Row],[Time Out HH:MM AM/PM]],"hh:mm") -> 1/00/1900 00:00 | N15: {=SUMPRODUCT((Table8[[#This Row],[Formula3]]<$M$7:$M$70)*(Table8[[#This Row],[Formula4]]>=$L$7:$L$70))>1} -> FALSE | O15: =Table8[[#This Row],[Time Out HH:MM AM/PM]]-Table8[[#This Row],[Time In HH:MM AM/PM]] -> 0 | P15: =TEXT(Table8[[#This Row],[Formula 1]],"HH:MM") -> 00:00 | Q15: =LEFT(Table8[[#This Row],[Formula 2]],SEARCH(":",Table8[[#This Row],[Formula 2]])-1) -> 00 | R15: =RIGHT(Table8[[#This Row],[Formula 2]],SEARCH(":",Table8[[#This Row],[Formula 2]])-1) -> 00 | S15: =Table8[[#This Row],[Hours]]*60+Table8[[#This Row],[Minutes]] -> 0 | T15: =IF(ISBLANK(Table8[[#This Row],[Approved Service Provided]]),"",IF(OR(Table8[[#This Row],[Formula2]]="DAYS",Table8[[#This Row],[Formula2]]="TRIP"),1,ROUNDDOWN((Table8[[#This Row],[Total Minutes]]+7)/15,0))) | U15: =IF(ISBLANK(Table8[[#This Row],[Approved Service Provided]]),"",Table8[[#This Row],[Rate1]]) | V15: =IF(Table8[[#This Row],[Rate]]="","",Table8[[#This Row],[Units]]*Table8[[#This Row],[Rate]])
F16: =$D$3 -> 0 | G16: =#REF! -> #REF! | H16: =IF(Table8[[#This Row],[Waiver]]="State SLS","8"&Table8[[#This Row],[Approved Service Provided]],IF(Table8[[#This Row],[Waiver]]="OBRA","9"&Table8[[#This Row],[Approved Service Provided]],Table8[[#This Row],[SIS]]&Table8[[#This Row],[Approved Service Provided]])) -> #REF! | I16: =IF(Table8[[#This Row],[Waiver]]="State SLS",8,IF(Table8[[#This Row],[Waiver]]="OBRA",9,IFERROR(VLOOKUP(Table8[[#This Row],[Combined]],'Optimax Rates'!$B$2:$G$148,4,FALSE),0))) -> 0 | J16: =IF(Table8[[#This Row],[SISdependent]]=0,VLOOKUP("0"&Table8[[#This Row],[Approved Service Provided]],'Optimax Rates'!$B$2:$H$168,6,FALSE),VLOOKUP(Table8[[#This Row],[Combined]],'Optimax Rates'!$B$1:$G$168,6,FALSE)) -> #N/A | K16: =VLOOKUP(Table8[[#This Row],[SISdependent]]&Table8[[#This Row],[Approved Service Provided]],'Optimax Rates'!$B$2:$H$148,3,FALSE) -> #N/A | L16: =TEXT(Table8[[#This Row],[Date of Service]],"m/dd/yyyy ")&" "&TEXT(Table8[[#This Row],[Time In HH:MM AM/PM]],"hh:mm") -> 1/00/1900 00:00 | M16: =TEXT(Table8[[#This Row],[Date of Service]],"m/dd/yyyy ")&" "&TEXT(Table8[[#This Row],[Time Out HH:MM AM/PM]],"hh:mm") -> 1/00/1900 00:00 | N16: {=SUMPRODUCT((Table8[[#This Row],[Formula3]]<$M$7:$M$70)*(Table8[[#This Row],[Formula4]]>=$L$7:$L$70))>1} -> FALSE | O16: =Table8[[#This Row],[Time Out HH:MM AM/PM]]-Table8[[#This Row],[Time In HH:MM AM/PM]] -> 0 | P16: =TEXT(Table8[[#This Row],[Formula 1]],"HH:MM") -> 00:00 | Q16: =LEFT(Table8[[#This Row],[Formula 2]],SEARCH(":",Table8[[#This Row],[Formula 2]])-1) -> 00 | R16: =RIGHT(Table8[[#This Row],[Formula 2]],SEARCH(":",Table8[[#This Row],[Formula 2]])-1) -> 00 | S16: =Table8[[#This Row],[Hours]]*60+Table8[[#This Row],[Minutes]] -> 0 | T16: =IF(ISBLANK(Table8[[#This Row],[Approved Service Provided]]),"",IF(OR(Table8[[#This Row],[Formula2]]="DAYS",Table8[[#This Row],[Formula2]]="TRIP"),1,ROUNDDOWN((Table8[[#This Row],[Total Minutes]]+7)/15,0))) | U16: =IF(ISBLANK(Table8[[#This Row],[Approved Service Provided]]),"",Table8[[#This Row],[Rate1]]) | V16: =IF(Table8[[#This Row],[Rate]]="","",Table8[[#This Row],[Units]]*Table8[[#This Row],[Rate]])
F17: =$D$3 -> 0 | G17: =#REF! -> #REF! | H17: =IF(Table8[[#This Row],[Waiver]]="State SLS","8"&Table8[[#This Row],[Approved Service Provided]],IF(Table8[[#This Row],[Waiver]]="OBRA","9"&Table8[[#This Row],[Approved Service Provided]],Table8[[#This Row],[SIS]]&Table8[[#This Row],[Approved Service Provided]])) -> #REF! | I17: =IF(Table8[[#This Row],[Waiver]]="State SLS",8,IF(Table8[[#This Row],[Waiver]]="OBRA",9,IFERROR(VLOOKUP(Table8[[#This Row],[Combined]],'Optimax Rates'!$B$2:$G$148,4,FALSE),0))) -> 0 | J17: =IF(Table8[[#This Row],[SISdependent]]=0,VLOOKUP("0"&Table8[[#This Row],[Approved Service Provided]],'Optimax Rates'!$B$2:$H$168,6,FALSE),VLOOKUP(Table8[[#This Row],[Combined]],'Optimax Rates'!$B$1:$G$168,6,FALSE)) -> #N/A | K17: =VLOOKUP(Table8[[#This Row],[SISdependent]]&Table8[[#This Row],[Approved Service Provided]],'Optimax Rates'!$B$2:$H$148,3,FALSE) -> #N/A | L17: =TEXT(Table8[[#This Row],[Date of Service]],"m/dd/yyyy ")&" "&TEXT(Table8[[#This Row],[Time In HH:MM AM/PM]],"hh:mm") -> 1/00/1900 00:00 | M17: =TEXT(Table8[[#This Row],[Date of Service]],"m/dd/yyyy ")&" "&TEXT(Table8[[#This Row],[Time Out HH:MM AM/PM]],"hh:mm") -> 1/00/1900 00:00 | N17: {=SUMPRODUCT((Table8[[#This Row],[Formula3]]<$M$7:$M$70)*(Table8[[#This Row],[Formula4]]>=$L$7:$L$70))>1} -> FALSE | O17: =Table8[[#This Row],[Time Out HH:MM AM/PM]]-Table8[[#This Row],[Time In HH:MM AM/PM]] -> 0 | P17: =TEXT(Table8[[#This Row],[Formula 1]],"HH:MM") -> 00:00 | Q17: =LEFT(Table8[[#This Row],[Formula 2]],SEARCH(":",Table8[[#This Row],[Formula 2]])-1) -> 00 | R17: =RIGHT(Table8[[#This Row],[Formula 2]],SEARCH(":",Table8[[#This Row],[Formula 2]])-1) -> 00 | S17: =Table8[[#This Row],[Hours]]*60+Table8[[#This Row],[Minutes]] -> 0 | T17: =IF(ISBLANK(Table8[[#This Row],[Approved Service Provided]]),"",IF(OR(Table8[[#This Row],[Formula2]]="DAYS",Table8[[#This Row],[Formula2]]="TRIP"),1,ROUNDDOWN((Table8[[#This Row],[Total Minutes]]+7)/15,0))) | U17: =IF(ISBLANK(Table8[[#This Row],[Approved Service Provided]]),"",Table8[[#This Row],[Rate1]]) | V17: =IF(Table8[[#This Row],[Rate]]="","",Table8[[#This Row],[Units]]*Table8[[#This Row],[Rate]])
F18: =$D$3 -> 0 | G18: =#REF! -> #REF! | H18: =IF(Table8[[#This Row],[Waiver]]="State SLS","8"&Table8[[#This Row],[Approved Service Provided]],IF(Table8[[#This Row],[Waiver]]="OBRA","9"&Table8[[#This Row],[Approved Service Provided]],Table8[[#This Row],[SIS]]&Table8[[#This Row],[Approved Service Provided]])) -> #REF! | I18: =IF(Table8[[#This Row],[Waiver]]="State SLS",8,IF(Table8[[#This Row],[Waiver]]="OBRA",9,IFERROR(VLOOKUP(Table8[[#This Row],[Combined]],'Optimax Rates'!$B$2:$G$148,4,FALSE),0))) -> 0 | J18: =IF(Table8[[#This Row],[SISdependent]]=0,VLOOKUP("0"&Table8[[#This Row],[Approved Service Provided]],'Optimax Rates'!$B$2:$H$168,6,FALSE),VLOOKUP(Table8[[#This Row],[Combined]],'Optimax Rates'!$B$1:$G$168,6,FALSE)) -> #N/A | K18: =VLOOKUP(Table8[[#This Row],[SISdependent]]&Table8[[#This Row],[Approved Service Provided]],'Optimax Rates'!$B$2:$H$148,3,FALSE) -> #N/A | L18: =TEXT(Table8[[#This Row],[Date of Service]],"m/dd/yyyy ")&" "&TEXT(Table8[[#This Row],[Time In HH:MM AM/PM]],"hh:mm") -> 1/00/1900 00:00 | M18: =TEXT(Table8[[#This Row],[Date of Service]],"m/dd/yyyy ")&" "&TEXT(Table8[[#This Row],[Time Out HH:MM AM/PM]],"hh:mm") -> 1/00/1900 00:00 | N18: {=SUMPRODUCT((Table8[[#This Row],[Formula3]]<$M$7:$M$70)*(Table8[[#This Row],[Formula4]]>=$L$7:$L$70))>1} -> FALSE | O18: =Table8[[#This Row],[Time Out HH:MM AM/PM]]-Table8[[#This Row],[Time In HH:MM AM/PM]] -> 0 | P18: =TEXT(Table8[[#This Row],[Formula 1]],"HH:MM") -> 00:00 | Q18: =LEFT(Table8[[#This Row],[Formula 2]],SEARCH(":",Table8[[#This Row],[Formula 2]])-1) -> 00 | R18: =RIGHT(Table8[[#This Row],[Formula 2]],SEARCH(":",Table8[[#This Row],[Formula 2]])-1) -> 00 | S18: =Table8[[#This Row],[Hours]]*60+Table8[[#This Row],[Minutes]] -> 0 | T18: =IF(ISBLANK(Table8[[#This Row],[Approved Service Provided]]),"",IF(OR(Table8[[#This Row],[Formula2]]="DAYS",Table8[[#This Row],[Formula2]]="TRIP"),1,ROUNDDOWN((Table8[[#This Row],[Total Minutes]]+7)/15,0))) | U18: =IF(ISBLANK(Table8[[#This Row],[Approved Service Provided]]),"",Table8[[#This Row],[Rate1]]) | V18: =IF(Table8[[#This Row],[Rate]]="","",Table8[[#This Row],[Units]]*Table8[[#This Row],[Rate]])
... F70: =$D$3 -> 0 | G70: =#REF! -> #REF! | H70: =IF(Table8[[#This Row],[Waiver]]="State SLS","8"&Table8[[#This Row],[Approved Service Provided]],IF(Table8[[#This Row],[Waiver]]="OBRA","9"&Table8[[#This Row],[Approved Service Provided]],Table8[[#This Row],[SIS]]&Table8[[#This Row],[Approved Service Provided]])) -> #REF! | I70: =IF(Table8[[#This Row],[Waiver]]="State SLS",8,IF(Table8[[#This Row],[Waiver]]="OBRA",9,IFERROR(VLOOKUP(Table8[[#This Row],[Combined]],'Optimax Rates'!$B$2:$G$148,4,FALSE),0))) -> 0 | J70: =IF(Table8[[#This Row],[SISdependent]]=0,VLOOKUP("0"&Table8[[#This Row],[Approved Service Provided]],'Optimax Rates'!$B$2:$H$168,6,FALSE),VLOOKUP(Table8[[#This Row],[Combined]],'Optimax Rates'!$B$1:$G$168,6,FALSE)) -> #N/A | K70: =VLOOKUP(Table8[[#This Row],[SISdependent]]&Table8[[#This Row],[Approved Service Provided]],'Optimax Rates'!$B$2:$H$148,3,FALSE) -> #N/A | L70: =TEXT(Table8[[#This Row],[Date of Service]],"m/dd/yyyy ")&" "&TEXT(Table8[[#This Row],[Time In HH:MM AM/PM]],"hh:mm") -> 1/00/1900 00:00 | M70: =TEXT(Table8[[#This Row],[Date of Service]],"m/dd/yyyy ")&" "&TEXT(Table8[[#This Row],[Time Out HH:MM AM/PM]],"hh:mm") -> 1/00/1900 00:00 | N70: {=SUMPRODUCT((Table8[[#This Row],[Formula3]]<$M$7:$M$70)*(Table8[[#This Row],[Formula4]]>=$L$7:$L$70))>1} -> FALSE | O70: =Table8[[#This Row],[Time Out HH:MM AM/PM]]-Table8[[#This Row],[Time In HH:MM AM/PM]] -> 0 | P70: =TEXT(Table8[[#This Row],[Formula 1]],"HH:MM") -> 00:00 | Q70: =LEFT(Table8[[#This Row],[Formula 2]],SEARCH(":",Table8[[#This Row],[Formula 2]])-1) -> 00 | R70: =RIGHT(Table8[[#This Row],[Formula 2]],SEARCH(":",Table8[[#This Row],[Formula 2]])-1) -> 00 | S70: =Table8[[#This Row],[Hours]]*60+Table8[[#This Row],[Minutes]] -> 0 | T70: =IF(ISBLANK(Table8[[#This Row],[Approved Service Provided]]),"",IF(OR(Table8[[#This Row],[Formula2]]="DAYS",Table8[[#This Row],[Formula2]]="TRIP"),1,ROUNDDOWN((Table8[[#This Row],[Total Minutes]]+7)/15,0))) | U70: =IF(ISBLANK(Table8[[#This Row],[Approved Service Provided]]),"",Table8[[#This Row],[Rate1]]) | V70: =IF(Table8[[#This Row],[Rate]]="","",Table8[[#This Row],[Units]]*Table8[[#This Row],[Rate]])
E71: Totals | S71: =SUBTOTAL(109,Table8[Total Minutes]) -> 0 | T71: =SUBTOTAL(109,Table8[Units]) -> 0 | V71: =SUBTOTAL(109,Table8[Total Amount]) -> 0
A72: Certification Statement:
A73: I certify that the services for which payment is requested were either rendered personally by me or rendered by qualified personnel under direct and personal supervision. The provider and persons signing this claim understand that false claims constitute fraud and may subject the persons responsible to criminal charges, civil penalties and forfeitures.
A74: Printed Name
A75: Signature | C75: Date:
A77: Revised June 2024
A78: Template effective 7/1/24-6/30/25, pending any applicable changes to the HCPF fee schedule
A79: Attention: Please verify that all text is visible prior to submission. This document must be converted to a PDF format prior to secure submission to Invoices@rmhumanservices.org by the 3rd business day each month. Please reach out to us if you need assistance with this template. All services must be authorized and must be invoiced according to the approved frequency on the customer's service plan. Providers are responsible for their own utilization management. Please contact the customer's Service Coordinator if the plan is not meeting the customer's need and a revision is needed. Retroactive revisions will not be permitted.

Sheet Optimax Rates
A1: Service | B1: WithSis | C1: Charge Code | D1: Increment | E1: Sis Level | F1: Description | G1: Amount | H1: Fee Schedule Set
A2: Behavioral Consultation | B2: 8Behavioral Consultation | D2: 15MIN | E2: 8 | G2: 28.05 | H2: 45474
A3: Behavioral Counseling-Group | B3: 8Behavioral Counseling-Group | D3: 15MIN | E3: 8 | G3: 9.47 | H3: 45474
A4: Behavioral Counseling-Individual | B4: 8Behavioral Counseling-Individual | D4: 15MIN | E4: 8 | G4: 28.05 | H4: 45474
A5: Behavioral Line Staff | B5: 8Behavioral Line Staff | D5: 15MIN | E5: 8 | G5: 7.95 | H5: 45474
A6: Behavioral Plan Assessment | B6: 8Behavioral Plan Assessment | D6: 15MIN | E6: 8 | G6: 28.05 | H6: 45474
A7: Homemaker-Basic | B7: 8Homemaker-Basic | D7: 15MIN | E7: 8 | G7: 4.5 | H7: 45474
A8: Homemaker-Enhanced | B8: 8Homemaker-Enhanced | D8: 15MIN | E8: 8 | G8: 7.32 | H8: 45474
A9: Job Coaching-Group | B9: 8Job Coaching-Group | D9: 15MIN | E9: 8 | G9: 5.42 | H9: 45474
A10: Job Coaching-Individual | B10: 8Job Coaching-Individual | D10: 15MIN | E10: 8 | G10: 15.6 | H10: 45474
A11: Job Development-Group | B11: 8Job Development-Group | D11: 15MIN | E11: 8 | G11: 4.98 | H11: 45474
A12: Job Development-Individual | B12: 8Job Development-Individual | D12: 15MIN | E12: 8 | G12: 15.61 | H12: 45474
A13: Massage Therapy | B13: 8Massage Therapy | D13: 15MIN | E13: 8 | G13: 20.97 | H13: 45474
... A26: Transportation (Non-Medical) | B26: 8Transportation (Non-Medical) | D26: Trip | E26: 9 | G26: 15.13 | H26: 45474
A27: Behavioral Consultation | B27: 9Behavioral Consultation | D27: 15MIN | E27: 9 | G27: 28.05 | H27: 7/1/2023 12:00:00 AM to 12/31/2023 11:59:59 PM
A28: Behavioral Counseling-Group | B28: 9Behavioral Counseling-Group | D28: 15MIN | E28: 9 | G28: 9.18 | H28: 7/1/2023 12:00:00 AM to 12/31/2023 11:59:59 PM
A29: Behavioral Counseling-Individual | B29: 9Behavioral Counseling-Individual | D29: 15MIN | E29: 9 | G29: 28.05 | H29: 7/1/2023 12:00:00 AM to 12/31/2023 11:59:59 PM
A30: Behavioral Plan Assessment | B30: 9Behavioral Plan Assessment | D30: 15MIN | E30: 9 | G30: 28.05 | H30: 7/1/2023 12:00:00 AM to 12/31/2023 11:59:59 PM
A31: Specialized Habilitation | B31: 9Specialized Habilitation | D31: 15MIN | E31: 9 | G31: 7.24 | H31: 7/1/2023 12:00:00 AM to 12/31/2023 11:59:59 PM
A32: Supported Community Connections | B32: 9Supported Community Connections | D32: 15MIN | E32: 9 | G32: 7.72 | H32: 7/1/2023 12:00:00 AM to 12/31/2023 11:59:59 PM
A33: Job Coaching-Group | B33: 9Job Coaching-Group | D33: 15MIN | E33: 9 | G33: 8.32 | H33: 7/1/2023 12:00:00 AM to 12/31/2023 11:59:59 PM
A34: Job Coaching-Individual | B34: 9Job Coaching-Individual | D34: 15MIN | E34: 9 | G34: 15.6 | H34: 7/1/2023 12:00:00 AM to 12/31/2023 11:59:59 PM
A35: Job Development-Group | B35: 9Job Development-Group | D35: 15MIN | E35: 9 | G35: 4.98 | H35: 7/1/2023 12:00:00 AM to 12/31/2023 11:59:59 PM
A36: Job Development-Individual | B36: 9Job Development-Individual | D36: 15MIN | E36: 9 | G36: 15.6 | H36: 7/1/2023 12:00:00 AM to 12/31/2023 11:59:59 PM
A37: Mileage | B37: 9Mileage- Not in Day Program | D37: 15MIN | E37: 9 | G37: 15.13 | H37: 7/1/2023 12:00:00 AM to 12/31/2023 11:59:59 PM

Sheet For Provider Use Only
A1: This table is an optional tool to help you keep track of the customer's approved services and remaining units. All services must be authorized and must be invoiced according to the approved frequency on the customer's service plan. Providers are responsible for their own utilization management. Please contact the customer's Service Coordinator if the plan is not meeting the customer's need and a revision is needed. Retroactive revisions will not be permitted.
A6: Approved Service | B6: Start Date | C6: End Date | D6: Approved Frequency | E6: Units Approved | F6: Units Used | G6: Units Remaining
G7: =E7-F7 -> 0
G8: =E8-F8 -> 0
G9: =E9-F9 -> 0
G10: =E10-F10 -> 0
G11: =E11-F11 -> 0
G12: =E12-F12 -> 0
G13: =E13-F13 -> 0
G14: =E14-F14 -> 0
G15: =E15-F15 -> 0
G16: =E16-F16 -> 0

Sheet Drop Downs
A2: Behavioral Consultation | B2: State SLS
A3: Behavioral Counseling-Group | B3: OBRA
A4: Behavioral Counseling-Individual
A5: Behavioral Line Staff
A6: Behavioral Plan Assessment
A7: Homemaker-Basic
A8: Homemaker-Enhanced
A9: Job Coaching-Group
A10: Job Coaching-Individual
A11: Job Development-Group
A12: Job Development-Individual
A13: Massage Therapy
A14: Mentorship
A15: Mileage
... A26: Transportation (Non-Medical)

Sheet Service Definitions
A1: Service | B1: Definition | C1: Additional Notes
A2: Behavioral Consultation | B2: i) Behavioral consultation services include consultations and recommendations for behavioral interventions and development of behavioral support plans that are related to the Client’s developmental disability and are necessary for the Client to acquire or maintain appropriate adaptive behaviors, interactions with others and behavioral self-management. ii) Intervention modalities shall relate to an identified challenging behavioral need of the Client. Specific goals and procedures for the behavioral service shall be established.
A3: Behavioral Counseling | B3: Individual or group counseling services include psychotherapeutic or psychoeducational intervention that: 1) Is related to the developmental disability in order for the Client to acquire or maintain appropriate adaptive behaviors, interactions with others and behavioral self-management, and 2) Positively impacts the Client’s behavior or functioning and may include cognitive behavior therapy, systematic desensitization, anger management, biofeedback and relaxation therapy. 3) Services for the sole purpose of training basic life skills, such as activities of daily living, social skills and adaptive responding are excluded and not reimbursed under behavioral services.
A4: Behavioral Line Staff | B4: Behavioral line services include direct one on one (1:1) implementation of the behavioral support plan and are: 1) Under the supervision and oversight of a behavioral consultant 2) To include acute, short term intervention at the time of enrollment from an institutional setting, or 3) To address an identified challenging behavior of a Client at risk of institutional placement, and that places the Client’s health and safety or the safety of others at risk
A5: Behavioral Plan Assessment | B5: Behavioral plan assessment services include observations, interviews of direct care staff, functional behavioral analysis and assessment, evaluations and completion of a written assessment document.
A6: Homemaker-Basic | B6: Basic homemaker services include cleaning, completing laundry, completing basic household care or maintenance within the Client’s primary residence only in the areas where the Client frequents. i) Assistance may take the form of hands-on assistance including actually performing a task for the Client or cueing to prompt the Client to perform a task. ii) Lawn care, snow removal, air duct cleaning, and animal care are specifically excluded and shall not be reimbursed. | C6: Includes: -Client participation in tasks, cueing the client to perform the task Excludes: -Cleaning of common areas of the residence the client does not frequent
A7: Homemaker-Enhanced | B7: Enhanced homemaker services include basic homemaker services with the addition of either procedures for habilitation or procedures to perform extraordinary cleaning i) Habilitation services shall include direct training and instruction to the Client in performing basic household tasks including cleaning, laundry, and household care which may include some hands-on assistance by actually performing a task for the Client or enhanced prompting and cueing. ii) The provider shall be physically present to provide step-by-step verbal or physical instructions throughout the entire task: 1) When such support is incidental to the habilitative services being provided, and 2) To increase the independence of the Client, iii) Incidental basic homemaker service may be provided in combination with enhanced homemaker services; however, the primary intent must be to provide habilitative services to increase independence of the Client. iv) Extraordinary cleaning are those tasks that are beyond routine sweeping, mopping, laundry or cleaning | C7: Documentation must show how the client is being taught the cleaning services step-by-step to increase independence and/or show that the activities are extraordinarily above the tasks included in Homemaker Basic
A8: Job Coaching | B8: Individualized job coaching, including the following: 1. Providing necessary workplace supports to Clients with significant disabilities to ensure success in competitive integrated employment and resulting in a reduction in the need for paid workplace supports over time.
A9: Job Development | B9: Individualized job development, including the following: 1. Identifying and creating individualized competitive integrated employment opportunities for individuals with significant disabilities, which meet the needs of both the employer and the individuals. This competency includes negotiation of necessary disability accommodations.
A10: Massage Therapy | B10: Massage includes the physical manipulation of muscles to ease muscle contractures or spasms, increase extension and muscle relaxation and decrease muscle tension and includes watsu
A11: Mentorship | B11: Mentorship services are provided to Clients to promote self-advocacy through methods such as instructing, providing experiences, modeling and advising and include: a. Assistance in interviewing potential providers, b. Assistance in understanding complicated health and safety issues, c. Assistance with participation on private and public boards, advisory groups and commissions, and d. Training in child and infant care for Clients who are parenting children. e. Mentorship services shall not duplicate case management or other waiver services. | C11: Documentation must support self-advocacy activities. The Arc of the United States defines self-advocacy as people with disabilities “exercising their rights as citizens by communicating for and representing themselves, with supports in doing so, as necessary. This means they have a say in decision-making in all areas of their daily lives and in the public policy decisions that affect them” Excludes: -Activities such as running errands, going to the gym, getting haircuts, etc.
A12: Movement Therapy | B12: Movement therapy includes the use of music or dance as a therapeutic tool for the habilitation, rehabilitation and maintenance of behavioral, developmental, physical, social, communication, or gross motor skills and assists in pain management and cognition
A13: Personal Care | B13: Personal care services include: i) Assistance with basic self-care including hygiene, bathing, eating, dressing, grooming, bowel, bladder and menstrual care. ii) Assistance with money management, iii) Assistance with menu planning and grocery shopping, and iv) Assistance with health related services including first aide, medication administration, assistance scheduling or reminders to attend routine or as needed medical, dental and therapy appointments, support that may include accompanying Clients to routine or as needed medical, dental, or therapy appointments to ensure understanding of instructions, doctor's orders, follow up, diagnoses or testing required, or skilled care that takes place out of the home. b. Personal care services may be provided on an episodic, emergency or on a continuing basis
A14: Prevocational Services | B14: Prevocational Services are provided to prepare a Client for paid community employment. Services consist of teaching concepts including attendance, task completion, problem solving and safety, and are associated with performing compensated work. i) Prevocational Services are directed to habilitative rather than explicit employment objectives and are provided in a variety of locations separate from the participant’s private residence or other residential living arrangement. ii) Goals for Prevocational Services are to increase general employment skills and are not primarily directed at teaching job specific skills.
A15: Respite Individual-15 Mins | B15: Respite service is provided to Clients on a short-term basis, because of the absence or need for relief of the primary caregivers of the Client. a. Respite may be provided: i) In the Client’s home and private place of residence, ii) The private residence of a respite care provider, or iii) In the community. b. Respite shall be provided according to individual or group rates as defined below: i) Individual: the Client receives respite in a one-on-one situation. There are no other Clients in the setting also receiving respite services. Individual respite occurs for ten (10) hours or less in a twenty-four (24)- hour period.
A16: Respite Individual-Day | B16: Respite service is provided to Clients on a short-term basis, because of the absence or need for relief of the primary caregivers of the Client. a. Respite may be provided: i) In the Client’s home and private place of residence, ii) The private residence of a respite care provider, or iii) In the community. b. Respite shall be provided according to individual or group rates as defined below: Individual Day: the Client receives respite in a one-on-one situation for cumulatively more than 10 hours in a 24-hour period. A full day is 10 hours or greater within a 24- hour period.
A17: Specialized Habilitation | B17: Specialized habilitation (SH) services are provided to enable the Client to attain the maximum functional level or to be supported in such a manner that allows the Client to gain an increased level of self-sufficiency. Specialized habilitation services: i) Include the opportunity for Clients to select from Age Appropriate Activities and Materials, as defined in Section 8.484.2.A., both within and outside of the setting. ii) Include assistance with self-feeding, toileting, self-care, sensory stimulation and integration, self-sufficiency and maintenance skills, and iii) May reinforce skills or lessons taught in school, therapy or other settings and are coordinated with any physical, occupational or speech therapies listed in the service plan
A18: Supported Community Connections | B18: Supported Community Connections Services are provided to support the abilities and skills necessary to enable the Client to access typical activities and functions of community life, such as those chosen by the general population, including community education or training, retirement and volunteer activities. Supported community connections services: i) Provide a wide variety of opportunities to facilitate and build relationships and natural supports in the community while utilizing the community as a learning environment to provide services and supports as identified in a Client’s service plan, ii) Are conducted in a variety of settings in which the Client interacts with persons without disabilities other than those individuals who are providing services to the Client. These types of services may include socialization, adaptive skills and personnel to accompany and support the Client in community settings, iii) Provide resources necessary for participation in activities and supplies related to skill acquisition, retention or improvement and are provided by the service agency as part of the established reimbursement rate, and iv) May be provided in a group setting or may be provided to a single Client in a learning environment to provide instruction when identified in the service plan. v) Activities provided exclusively for recreational purposes are not a benefit and shall not be reimbursed. | C18: Includes: -A variety of activities and settings in the community -Interaction with people without disabilities in the community -Opportunities to facilitate learning and building supports Excludes: -Services inside the home or time spent at a day program -Visiting family members -Leisure activities such as going to the movies
A19: STSLS Trips | B19: All mileage ranges Non-Medical Transportation (NMT) services means transportation which enable eligible clients to gain physical access to non-medical community services and supports, as required by the care plan to prevent institutionalization. Non-Medical Transportation services shall include, but not be limited to, transportation between the participant's home and non-medical services or supports such as Adult Day Centers, shopping, activities that encourage community integration, therapeutic swimming, counseling sessions not covered by State Plan, and other services as required by the care plan to prevent institutionalization

Sheet Additional Resources
A1: RMHS Website- Includes a Video Tutorial for Using This Invoice Template
A2: For Providers - RMHS (rmhumanservices.org)
A5: Service Definitions
A6: Code of Colorado Regulations (state.co.us)
A7: https://hcpf.colorado.gov/long-term-services-supports-benefits-services-glossary
A10: Documentation & Compliance Resources
A11: Documentation Matters Toolkit | CMS
A12: Complying With Medical Record Documentation Requirements Fact Sheet | Guidance Portal (hhs.gov)
A13: Medical Auditing Frequently Asked Questions - AAPC
A16: Fee Schedules
A17: Provider Rates and Fee Schedule | Colorado Department of Health Care Policy & Financing
A18: HCBS Waivers
A31: STSLS/OBRA
